BEGIN:VCALENDAR
VERSION:2.0
PRODID:-//Plone.org//NONSGML plone.app.event//EN
X-WR-TIMEZONE:Europe/Rome
BEGIN:VEVENT
SUMMARY:International Summer School ENVIMAT\, "Environment-Material intera
 ction"
DTSTART;TZID=Europe/Rome:20220706T090000
DTEND;TZID=Europe/Rome:20220709T190000
DTSTAMP:20260422T124818Z
UID:cab69efef4a94a659a1a606dba9896a2@plone6.unife.it:8059
CATEGORIES:summer school,cambiamenti climatici,HP,sostenibilità,greenmetr
 ic2022
CREATED:20220609T104159Z
LAST-MODIFIED:20220708T110552Z
LOCATION:Gattopardo Park Hotel - Lipari\, Isole Eolie
URL:https://www.unife.it/it/eventi/2022/luglio/summer-school-envimat
END:VEVENT
BEGIN:VTIMEZONE
TZID:Europe/Rome
X-LIC-LOCATION:Europe/Rome
BEGIN:DAYLIGHT
DTSTART:20220327T030000
TZNAME:CEST
TZOFFSETFROM:+0100
TZOFFSETTO:+0200
END:DAYLIGHT
END:VTIMEZONE
END:VCALENDAR
