BEGIN:VCALENDAR
VERSION:2.0
PRODID:-//Plone.org//NONSGML plone.app.event//EN
X-WR-TIMEZONE:Europe/Rome
BEGIN:VEVENT
SUMMARY:Cerimonia di consegna dei titoli di Professore Emerito e di Profes
 sore Onorario
DTSTART;TZID=Europe/Rome:20220607T110000
DTEND;TZID=Europe/Rome:20220607T130000
DTSTAMP:20260422T080124Z
UID:0eff28a555834145b583768d86401bc5@plone6.unife.it:8059
CATEGORIES:cerimonie
CONTACT:https://youtu.be/3ncYJ_m8-Nc
CREATED:20220527T133229Z
LAST-MODIFIED:20220907T101445Z
LOCATION:Aula Magna del Dipartimento di Giurisprudenza - Corso Ercole I d
 ’Este\, 37 - Ferrara
URL:https://www.unife.it/it/eventi/2022/giugno/cerimonia-emerito-onorario
END:VEVENT
BEGIN:VTIMEZONE
TZID:Europe/Rome
X-LIC-LOCATION:Europe/Rome
BEGIN:DAYLIGHT
DTSTART:20220327T030000
TZNAME:CEST
TZOFFSETFROM:+0100
TZOFFSETTO:+0200
END:DAYLIGHT
END:VTIMEZONE
END:VCALENDAR
