BEGIN:VCALENDAR
VERSION:2.0
PRODID:-//Plone.org//NONSGML plone.app.event//EN
X-WR-TIMEZONE:Europe/Rome
BEGIN:VEVENT
SUMMARY:“Uno sguardo al cielo” | Quarto webinar del percorso di avvici
 namento all’elaborazione del lutto
DTSTART;TZID=Europe/Rome:20220125T180000
DTEND;TZID=Europe/Rome:20220125T193000
DTSTAMP:20260423T140312Z
UID:9628872696d340a68272769da49ebe19@plone6.unife.it:8059
CATEGORIES:dipartimento di studi umanistici,uno sguardo al cielo,HP
CREATED:20211125T112604Z
LAST-MODIFIED:20221121T094632Z
URL:https://www.unife.it/it/eventi/2022/gennaio/uno-sguardo-al-cielo-25-ge
 nnaio
END:VEVENT
BEGIN:VTIMEZONE
TZID:Europe/Rome
X-LIC-LOCATION:Europe/Rome
BEGIN:STANDARD
DTSTART:20211031T020000
TZNAME:CET
TZOFFSETFROM:+0200
TZOFFSETTO:+0100
END:STANDARD
END:VTIMEZONE
END:VCALENDAR
