BEGIN:VCALENDAR
VERSION:2.0
PRODID:-//Plone.org//NONSGML plone.app.event//EN
X-WR-TIMEZONE:Europe/Rome
BEGIN:VEVENT
SUMMARY:Tutela\, diritti e protezione dei Minori | Secondo appuntamento de
 l ciclo di webinar del master
DTSTART;TZID=Europe/Rome:20220114T180000
DTEND;TZID=Europe/Rome:20220114T193000
DTSTAMP:20260423T035649Z
UID:a56a608bf3c7447fa525045fe0a47727@plone6.unife.it:8059
CATEGORIES:master,Tutela\, diritti e protezione dei Minori,dipartimento di
  studi umanistici,HP
CREATED:20211116T104320Z
LAST-MODIFIED:20211116T113638Z
URL:https://www.unife.it/it/eventi/2022/gennaio/tutela-diritti-e-protezion
 e-dei-minori-14-gennaio
END:VEVENT
BEGIN:VTIMEZONE
TZID:Europe/Rome
X-LIC-LOCATION:Europe/Rome
BEGIN:STANDARD
DTSTART:20211031T020000
TZNAME:CET
TZOFFSETFROM:+0200
TZOFFSETTO:+0100
END:STANDARD
END:VTIMEZONE
END:VCALENDAR
