BEGIN:VCALENDAR
VERSION:2.0
PRODID:-//Plone.org//NONSGML plone.app.event//EN
X-WR-TIMEZONE:Europe/Rome
BEGIN:VEVENT
SUMMARY:Tutela\, diritti e protezione dei Minori | Terzo appuntamento del 
 ciclo di webinar del master
DTSTART;TZID=Europe/Rome:20220203T180000
DTEND;TZID=Europe/Rome:20220203T193000
DTSTAMP:20260423T035648Z
UID:8fa1c13cf8e84029b60dc8f360364e1d@plone6.unife.it:8059
CATEGORIES:master,Tutela\, diritti e protezione dei Minori,dipartimento di
  studi umanistici,HP
CREATED:20211116T105226Z
LAST-MODIFIED:20211116T113702Z
URL:https://www.unife.it/it/eventi/2022/febbraio/tutela-diritti-e-protezio
 ne-dei-minori-3-febbraio
END:VEVENT
BEGIN:VTIMEZONE
TZID:Europe/Rome
X-LIC-LOCATION:Europe/Rome
BEGIN:STANDARD
DTSTART:20211031T020000
TZNAME:CET
TZOFFSETFROM:+0200
TZOFFSETTO:+0100
END:STANDARD
END:VTIMEZONE
END:VCALENDAR
