BEGIN:VCALENDAR
VERSION:2.0
PRODID:-//Plone.org//NONSGML plone.app.event//EN
X-WR-TIMEZONE:Europe/Rome
BEGIN:VEVENT
SUMMARY:Darwin Day Ferrara 2022 | Seconda conferenza sul virus SARS-CoV-2 
 e la sua evoluzione
DTSTART;TZID=Europe/Rome:20220224T170000
DTEND;TZID=Europe/Rome:20220224T183000
DTSTAMP:20260424T072521Z
UID:d5d62d78da924c7e9ef350240dda3f48@plone6.unife.it:8059
CATEGORIES:darwin day,dipartimento di scienze della vita e biotecnologie,H
 P
CREATED:20220210T084028Z
LAST-MODIFIED:20220211T073620Z
URL:https://www.unife.it/it/eventi/2022/febbraio/darwin-day-ferrara-24-feb
 braio
END:VEVENT
BEGIN:VTIMEZONE
TZID:Europe/Rome
X-LIC-LOCATION:Europe/Rome
BEGIN:STANDARD
DTSTART:20211031T020000
TZNAME:CET
TZOFFSETFROM:+0200
TZOFFSETTO:+0100
END:STANDARD
END:VTIMEZONE
END:VCALENDAR
