BEGIN:VCALENDAR
VERSION:2.0
PRODID:-//Plone.org//NONSGML plone.app.event//EN
X-WR-TIMEZONE:Europe/Rome
BEGIN:VEVENT
SUMMARY:Darwin Day Ferrara 2022 | Prima conferenza sulla diffusione della 
 peste nel passato
DTSTART;TZID=Europe/Rome:20220217T170000
DTEND;TZID=Europe/Rome:20220217T183000
DTSTAMP:20260424T053833Z
UID:657ed8c330864c468c5b809ce65ce4d0@plone6.unife.it:8059
CATEGORIES:darwin day,dipartimento di scienze della vita e biotecnologie,H
 P
CREATED:20220210T083356Z
LAST-MODIFIED:20220211T073520Z
URL:https://www.unife.it/it/eventi/2022/febbraio/darwin-day-17-febbraio
END:VEVENT
BEGIN:VTIMEZONE
TZID:Europe/Rome
X-LIC-LOCATION:Europe/Rome
BEGIN:STANDARD
DTSTART:20211031T020000
TZNAME:CET
TZOFFSETFROM:+0200
TZOFFSETTO:+0100
END:STANDARD
END:VTIMEZONE
END:VCALENDAR
