BEGIN:VCALENDAR
VERSION:2.0
PRODID:-//Plone.org//NONSGML plone.app.event//EN
X-WR-TIMEZONE:Europe/Rome
BEGIN:VEVENT
SUMMARY:Incontro online "L’uguaglianza di genere nelle materie STEM. Sfi
 de e opportunità a Unife"
DTSTART;TZID=Europe/Rome:20221216T093000
DTEND;TZID=Europe/Rome:20221216T123000
DTSTAMP:20260423T211744Z
UID:f5623732d8d4417781e260ccf1163805@plone6.unife.it:8059
CATEGORIES:unife inclusiva,stem,HP,genere
CREATED:20221212T114156Z
LAST-MODIFIED:20221216T075241Z
LOCATION:Online
URL:https://www.unife.it/it/eventi/2022/dicembre/uguaglianza-genere-materi
 e-stem
END:VEVENT
BEGIN:VTIMEZONE
TZID:Europe/Rome
X-LIC-LOCATION:Europe/Rome
BEGIN:STANDARD
DTSTART:20221030T020000
TZNAME:CET
TZOFFSETFROM:+0200
TZOFFSETTO:+0100
END:STANDARD
END:VTIMEZONE
END:VCALENDAR
