BEGIN:VCALENDAR
VERSION:2.0
PRODID:-//Plone.org//NONSGML plone.app.event//EN
X-WR-TIMEZONE:Europe/Rome
BEGIN:VEVENT
SUMMARY:Politiche di inclusione | Quarto seminario sugli stereotipi di gen
 ere
DTSTART;TZID=Europe/Rome:20221205T150000
DTEND;TZID=Europe/Rome:20221205T170000
DTSTAMP:20260425T044737Z
UID:07ea82af2b5242f6b00534cbb88c1e43@plone6.unife.it:8059
CATEGORIES:unife inclusiva
CREATED:20221017T112234Z
LAST-MODIFIED:20221109T115402Z
LOCATION:Aula Magna Palazzo Bevilacqua Costabili\, Via Voltapaletto\, 11
URL:https://www.unife.it/it/eventi/2022/dicembre/seminario-stereotipi-gene
 re
END:VEVENT
BEGIN:VTIMEZONE
TZID:Europe/Rome
X-LIC-LOCATION:Europe/Rome
BEGIN:STANDARD
DTSTART:20221030T020000
TZNAME:CET
TZOFFSETFROM:+0200
TZOFFSETTO:+0100
END:STANDARD
END:VTIMEZONE
END:VCALENDAR
