BEGIN:VCALENDAR
VERSION:2.0
PRODID:-//Plone.org//NONSGML plone.app.event//EN
X-WR-TIMEZONE:Europe/Rome
BEGIN:VEVENT
SUMMARY:Congresso "I disordini vascolari nella patologia testa-collo: appr
 occio multidisciplinare"
DTSTART;TZID=Europe/Rome:20220423T080000
DTEND;TZID=Europe/Rome:20220423T130000
DTSTAMP:20260424T012631Z
UID:45b0ca0248bc46b290f0479d9fffa649@plone6.unife.it:8059
CATEGORIES:malattie neurovascolari,malattie vascolari,diagnostica
CREATED:20220307T132717Z
LAST-MODIFIED:20221026T074730Z
URL:https://www.unife.it/it/eventi/2022/aprile/disordini-vascolari-patolog
 ia-testa-collo
END:VEVENT
BEGIN:VTIMEZONE
TZID:Europe/Rome
X-LIC-LOCATION:Europe/Rome
BEGIN:DAYLIGHT
DTSTART:20220327T030000
TZNAME:CEST
TZOFFSETFROM:+0100
TZOFFSETTO:+0200
END:DAYLIGHT
END:VTIMEZONE
END:VCALENDAR
