BEGIN:VCALENDAR
VERSION:2.0
PRODID:-//Plone.org//NONSGML plone.app.event//EN
X-WR-TIMEZONE:Europe/Rome
BEGIN:VEVENT
SUMMARY:Da soli mai | Seminari di tecniche di rilassamento
DTSTART;TZID=Europe/Rome:20220823T130000
DTEND;TZID=Europe/Rome:20220830T150000
DTSTAMP:20260422T125532Z
UID:1d75b396a59c4e58b0c31664a6af125b@plone6.unife.it:8059
CATEGORIES:HP,counseling,da soli mai
CREATED:20220727T111326Z
LAST-MODIFIED:20220801T072629Z
LOCATION:Online
URL:https://www.unife.it/it/eventi/2022/agosto/da-soli-mai-estate-seminari
 -tecniche-di-rilassamento-agosto-1
END:VEVENT
BEGIN:VTIMEZONE
TZID:Europe/Rome
X-LIC-LOCATION:Europe/Rome
BEGIN:DAYLIGHT
DTSTART:20220327T030000
TZNAME:CEST
TZOFFSETFROM:+0100
TZOFFSETTO:+0200
END:DAYLIGHT
END:VTIMEZONE
END:VCALENDAR
