BEGIN:VCALENDAR
VERSION:2.0
PRODID:-//Plone.org//NONSGML plone.app.event//EN
X-WR-TIMEZONE:Europe/Rome
BEGIN:VEVENT
SUMMARY:Open Day virtuale del Corso di Laurea in Operatore dei servizi giu
 ridici
DTSTART;TZID=Europe/Rome:20200629T150000
DTSTAMP:20260424T120219Z
UID:efe9a9e3f3f2475191776e23b958c69e@plone6.unife.it:8059
CATEGORIES:dipartimento di giurisprudenza,orientamento,open days
CREATED:20200302T074153Z
LAST-MODIFIED:20221026T105721Z
LOCATION:Evento in streaming
URL:https://www.unife.it/it/eventi/2020/open-days-e-orientamento/open-day-
 operatore
END:VEVENT
BEGIN:VTIMEZONE
TZID:Europe/Rome
X-LIC-LOCATION:Europe/Rome
BEGIN:DAYLIGHT
DTSTART:20200329T030000
TZNAME:CEST
TZOFFSETFROM:+0100
TZOFFSETTO:+0200
END:DAYLIGHT
END:VTIMEZONE
END:VCALENDAR
