BEGIN:VCALENDAR
VERSION:2.0
PRODID:-//Plone.org//NONSGML plone.app.event//EN
X-WR-TIMEZONE:Europe/Rome
BEGIN:VEVENT
SUMMARY:Open Day virtuale del Corso di Laurea magistrale in Giurisprudenza
DTSTART;TZID=Europe/Rome:20200708T143000
DTSTAMP:20260424T153226Z
UID:16b59d87cb4140c89146fa67f3c11e64@plone6.unife.it:8059
CATEGORIES:dipartimento di giurisprudenza,orientamento,open days
CREATED:20200302T081631Z
LAST-MODIFIED:20221026T105723Z
LOCATION:Evento in streaming
URL:https://www.unife.it/it/eventi/2020/open-days-e-orientamento/open-day-
 giurisprudenza
END:VEVENT
BEGIN:VTIMEZONE
TZID:Europe/Rome
X-LIC-LOCATION:Europe/Rome
BEGIN:DAYLIGHT
DTSTART:20200329T030000
TZNAME:CEST
TZOFFSETFROM:+0100
TZOFFSETTO:+0200
END:DAYLIGHT
END:VTIMEZONE
END:VCALENDAR
