BEGIN:VCALENDAR
VERSION:2.0
PRODID:-//Plone.org//NONSGML plone.app.event//EN
X-WR-TIMEZONE:Europe/Rome
BEGIN:VEVENT
SUMMARY:Giuri si presenta online 2020
DTSTART;TZID=Europe/Rome:20200922T160000
DTEND;TZID=Europe/Rome:20200922T180000
DTSTAMP:20260420T124152Z
UID:be3f6a82bbbb452e9971026c67c63c4d@plone6.unife.it:8059
CATEGORIES:giuri si presenta,open days
CREATED:20200514T115943Z
LAST-MODIFIED:20221014T083705Z
URL:https://www.unife.it/it/eventi/2020/open-days-e-orientamento/giurionli
 ne-22-settembre
END:VEVENT
BEGIN:VTIMEZONE
TZID:Europe/Rome
X-LIC-LOCATION:Europe/Rome
BEGIN:DAYLIGHT
DTSTART:20200329T030000
TZNAME:CEST
TZOFFSETFROM:+0100
TZOFFSETTO:+0200
END:DAYLIGHT
END:VTIMEZONE
END:VCALENDAR
