BEGIN:VCALENDAR
VERSION:2.0
PRODID:-//Plone.org//NONSGML plone.app.event//EN
X-WR-TIMEZONE:Europe/Rome
BEGIN:VEVENT
SUMMARY:La mobilità in Europa per i giovani: si riparte!
DTSTART;TZID=Europe/Rome:20200615T153000
DTEND;TZID=Europe/Rome:20200615T163000
DTSTAMP:20260420T233719Z
UID:8864f5a08ff24a4ebff39eebf7388496@plone6.unife.it:8059
CATEGORIES:mobilità,HP
CREATED:20200521T081653Z
LAST-MODIFIED:20200617T084301Z
URL:https://www.unife.it/it/eventi/2020/giugno/la-mobilita-in-europa-per-i
 -giovani
END:VEVENT
BEGIN:VTIMEZONE
TZID:Europe/Rome
X-LIC-LOCATION:Europe/Rome
BEGIN:DAYLIGHT
DTSTART:20200329T030000
TZNAME:CEST
TZOFFSETFROM:+0100
TZOFFSETTO:+0200
END:DAYLIGHT
END:VTIMEZONE
END:VCALENDAR
