BEGIN:VCALENDAR
VERSION:2.0
PRODID:-//Plone.org//NONSGML plone.app.event//EN
X-WR-TIMEZONE:Europe/Rome
BEGIN:VEVENT
SUMMARY:BeSt |  Sentirsi a casa: la costruzione del proprio spazio interno
  attraverso la creatività
DTSTART;TZID=Europe/Rome:20260427T150000
DTEND;TZID=Europe/Rome:20260427T170000
DTSTAMP:20260423T140456Z
UID:e943181cada849ba93e8e93a0fbc7c62@plone6.unife.it:8059
CATEGORIES:Centro BeSt
CONTACT:Cristina Zaninello\, cristina.zaninello@edu.unife.it
CREATED:20260331T111653Z
LAST-MODIFIED:20260401T110353Z
LOCATION:Centro BeSt\, via Saragat 2/d\, II piano
URL:https://www.unife.it/it/best/eventi-centro-best/best-costruzione-spazi
 o-interno-creativita
END:VEVENT
BEGIN:VTIMEZONE
TZID:Europe/Rome
X-LIC-LOCATION:Europe/Rome
BEGIN:DAYLIGHT
DTSTART:20260329T030000
TZNAME:CEST
TZOFFSETFROM:+0100
TZOFFSETTO:+0200
END:DAYLIGHT
END:VTIMEZONE
END:VCALENDAR
