BEGIN:VCALENDAR
PRODID:-//AT Content Types//AT Event//EN
VERSION:1.0
BEGIN:VEVENT
DTSTART:20161003T043000Z
DTEND:20161004T043000Z
DCREATED:20201003T042650Z
UID:ATEvent-0b5a20d5e57a42dd8b57daa7bc1c7eb0
SEQUENCE:0
LAST-MODIFIED:20201003T042808Z
SUMMARY:tutorato
PRIORITY:3
TRANSP:0
END:VEVENT
END:VCALENDAR
