BEGIN:VCALENDAR
PRODID:-//AT Content Types//AT Event//EN
VERSION:2.0
METHOD:PUBLISH
BEGIN:VEVENT
DTSTAMP:20260420T182827Z
CREATED:20231021T183154Z
UID:ATEvent-429cf7e643d84ac9b8408a6dcd30454e
LAST-MODIFIED:20231107T145430Z
SUMMARY:IN THE SAME BOAT\, di Rudy Gnutti
DTSTART:20231115T124500Z
DTEND:20231115T143000Z
LOCATION:Sala 6\, UCI Cinema\, Ferrara-Darsena
CONTACT:PAOLO PINI\, pnipla@unife.it
CLASS:PUBLIC
END:VEVENT
END:VCALENDAR
